BEGIN:VCALENDAR
VERSION:2.0
PRODID:-//wp-events-plugin.com//7.2.3.1//EN
BEGIN:VEVENT
UID:23@dohmeetharsulay.com
DTSTART;TZID=Asia/Yangon:20260425T190000
DTEND;TZID=Asia/Yangon:20260425T210000
DTSTAMP:20260410T113717Z
URL:https://dohmeetharsulay.com/events/cfhybrid1/
SUMMARY:ဖြည့်စွက်စာကျွေးမွေးခြ
 င်းသင်တန်း (Online - Recorded Lessons + Zoom)
DESCRIPTION:ဘေဘီလေး အသက် ၆ လပြည့်ပြ
 ီလား။ ဖြည့်စွက်စာစကျွေးဖိ
 ု့ စိုးရိမ်စိတ်တွေရှိနေပြ
 ီလား။\n\nဒို့မိသားစုလေးက အမေ
 များအတွက် ရည်ရွယ်ပြီး "ဖြည
 ့်စွက်စာ ကျွေးမွေးခြင်း (Compl
 ementary Feeding)" အွန်လိုင်းသင်တန်းက
 ို ဖွင့်လှစ်လိုက်ပါပြီ။\n\nဒ
 ီသင်တန်းမှာ ကလေးရဲ့ အာဟာရလ
 ိုအပ်ချက်နဲ့အညီ ဘေးကင်းပြ
 ီး အာဟာရပြည့်ဝတဲ့ ဖြည့်စွက
 ်စာတွေကို စနစ်တကျ ပြင်ဆင်က
 ျွေးမွေးနည်း၊ အစာကျွေးရာမ
 ှာ ကြုံရတတ်တဲ့ ပြဿနာတွေကို
  ဖြေရှင်းနည်းအထိ အပြည့်အစု
 ံ သင်ကြားပေးမှာပါ။\n\nအတွေ့အ
 ကြုံရှိတဲ့ ဆရာမကြီး ဒေါ်သဲ
 လ်မာထွန်းသိန်းနဲ့ ဆရာကိုစ
 ိုးညီညီတို့က သင်ကြားပေးမှ
 ာ ဖြစ်ပါတယ်။\n\n&#x1f5d3\;&#xfe0f\; သင်တန
 ်းရက် - ၁၃ - ၁၄ စက်တင်ဘာ ၂၀၂၅ (
 စနေ၊ တနင်္ဂနွေ)\n&#x1f552\; အချိန် -
  ည ၇:၀၀ မှ ၉:၀၀\n&#x1f310\; နေရာ - Zoom Meeting 
 Platform\n\nသင့်ကလေးလေးရဲ့ ကျန်းမ
 ာရေးအတွက် အခုပဲ စာရင်းပေးသ
 ွင်းလိုက်ပါ။
ATTACH;FMTTYPE=image/jpeg:https://dohmeetharsulay.com/wp-content/uploads/2
 024/09/Complementary-Feeding-Training-3.png
LOCATION:https://zoom.us/join
END:VEVENT
BEGIN:VTIMEZONE
TZID:Asia/Yangon
X-LIC-LOCATION:Asia/Yangon
BEGIN:STANDARD
DTSTART:20250425T190000
TZOFFSETFROM:+0630
TZOFFSETTO:+0630
TZNAME:+0630
END:STANDARD
END:VTIMEZONE
END:VCALENDAR